Workbook

Sheet Modelo
A1: PLANILHA DE CUSTOS E FORMAÇÃO DE PREÇOS
A2: MODELO PARA A CONSOLIDAÇÃO E APRESENTAÇÃO DE PROPOSTAS
A3: Com ajustes após publicação da Lei n° 13.467, de 2017.
A6: Módulo 1 - Composição da Remuneração
A8: 1 | B8: Composição da Remuneração | C8: Valor (R$)
A9: A | B9: Salário-Base
A10: B | B10: Adicional de Periculosidade
A11: C | B11: Adicional de Insalubridade
A12: D | B12: Adicional Noturno
A13: E | B13: Adicional de Hora Noturna Reduzida
A15: G | B15: Outros (especificar)
A16: Total
A19: Módulo 2 - Encargos e Benefícios Anuais, Mensais e Diários
A21: Submódulo 2.1 - 13º (décimo terceiro) Salário, Férias e Adicional de Férias
A23: 2.1 | B23: 13º (décimo terceiro) Salário, Férias e Adicional de Férias | C23: Valor (R$)
A24: A | B24: 13º (décimo terceiro) Salário
A25: B | B25: Férias e Adicional de Férias
A26: Total
A29: Submódulo 2.2 - Encargos Previdenciários (GPS), Fundo de Garantia por Tempo de Serviço (FGTS) e outras contribuições.
A31: 2.2 | B31: GPS, FGTS e outras contribuições | C31: Percentual (%) | D31: Valor (R$)
A32: A | B32: INSS | C32: 0.2
A33: B | B33: Salário Educação | C33: 0.025
A34: C | B34: SAT
A35: D | B35: SESC ou SESI | C35: 0.015
A36: E | B36: SENAI - SENAC | C36: 0.01
A37: F | B37: SEBRAE | C37: 0.006
A38: G | B38: INCRA | C38: 0.002
A39: H | B39: FGTS | C39: 0.08
A40: Total
A43: Submódulo 2.3 - Benefícios Mensais e Diários.
A45: 2.3 | B45: Benefícios Mensais e Diários | C45: Valor (R$)
A46: A | B46: Transporte
A47: B | B47: Auxílio-Refeição/Alimentação
A48: C | B48: Benefício xxx
A49: D | B49: Outros (especificar)
A50: Total
A53: Quadro-Resumo do Módulo 2 - Encargos e Benefícios anuais, mensais e diários
A55: 2 | B55: Encargos e Benefícios Anuais, Mensais e Diários | C55: Valor (R$)
A56: 2.1 | B56: 13º (décimo terceiro) Salário, Férias e Adicional de Férias
A57: 2.2 | B57: GPS, FGTS e outras contribuições
...

Sheet RESUMO
A3: RECEPCIONISTAS
A6: FUNCIONÁRIOS | B6: Preço mensal | C6: postos | D6: N.º de colaboradores | E6: Valor Total Mensal | F6: Valor Total do Contrato (24 meses)
A7: RECEPCIONISTA RIO DE JANEIRO | B7: ='RIO DE JANEIRO'!E116 -> 5754.98 | C7: 5 | D7: 5 | E7: =B7*C7 -> 28774.9 | F7: =E7*24 -> 690597.6
A8: RECEPCIONISTA DUQUE DE CAXIAS | B8: ='DUQUE DE CAXIAS'!E116 -> 5660.09 | C8: 1 | D8: 1 | E8: =B8 -> 5660.09 | F8: =E8*24 -> 135842.16
A9: RECEPCIONISTA NOVA IGUAÇU | B9: ='NOVA IGUAÇU'!E116 -> 5207.93 | C9: 1 | D9: 1 | E9: =B9*D9 -> 5207.93 | F9: =E9*24 -> 124990.32
A10: RECEPCIONISTA PETRÓPOLIS | B10: =PETROPOLIS!E116 -> 5243.19 | C10: 1 | D10: 1 | E10: =B10*D10 -> 5243.19 | F10: =E10*24 -> 125836.56
A11: RECEPCIONISTA CABO FRIO | B11: ='CABO FRIO'!E116 -> 5494.21 | C11: 2 | D11: 2 | E11: =B11*D11 -> 10988.42 | F11: =E11*24 -> 263722.08
A12: RECEPCIONISTA CAMPOS | B12: ='CAMPOS DOS GOYTACASES'!E116 -> 5282.13 | C12: 2 | D12: 2 | E12: =B12*D12 -> 10564.26 | F12: =E12*24 -> 253542.24
A13: Total Mensal | E13: =SUM(E7:E12) -> 66438.79 | F13: =SUM(F7:F12) -> 1594531
A16: RESUMO TOTAL | F16: VALOR DOS POSTOS
A17: VALOR TOTAL MENSAL | F17: =E13 -> 66438.79
A18: VALOR TOTAL 24 MESES | F18: =F17*24 -> 1594531

Sheet RIO DE JANEIRO
A2: PLANILHA DE CUSTOS E FORMAÇÃO DE PREÇOS
A7: A | B7: Data de apresentação da proposta (dia/mês/ano)
A8: B | B8: Município/UF | D8: RIO DE JANEIRO/RJ
A9: C | B9: Ano Acordo, Convenção ou Sentença Normativa em Dissídio Coletivo | D9: 2026/2027
A10: D | B10: Nº de meses de execução contratual | D10: 24
A11: IDENTIFICAÇÃO DOS SERVIÇOS
B12: Unidade de Medida | D12: Posto
B13: Quantidade total a contratar (em função da unidade de medida) | D13: 1
A14: RECEPCIONISTA - RIO DE JANEIRO
A15: Dados complementares para composição dos custos referente à mão-de-obra
A16: 1 | B16: Tipo de serviço (mesmo serviço com características distintas) | D16: RECEPCIONISTA
A17: 2 | B17: Salário Normativo da Categoria Profissional | D17: 1966.52
A18: 3 | B18: Categoria Profissional (vinculada à execução contratual) | D18: RECEPCIONISTA
A19: 4 | B19: Data base da categoria (dia/mês/ano) | D19: 46082
A20: 5 | B20: Regime tributário | D20: LUCRO REAL
A21: MODULO 1: COMPOSIÇÃO DA REMUNERAÇÃO
A22: 1 | B22: Composição da Remuneração | D22: % | E22: Valor (R$)
A23: A | B23: Salário | E23: 1966.52
A24: B | B24: Adicional de periculosidade | D24: 0 | E24: 0
A25: C | B25: Adicional de insalubridade | D25: 0 | E25: 0
A26: D | B26: Adicional noturno | D26: 0 | E26: 0
A27: E | B27: Adicional de hora noturna reduzida | D27: 0 | E27: 0
A28: F | B28: Outros | D28: 0 | E28: =D28*E23 -> 0 | F28: data base da categoria -01/03/2026
A29: TOTAL | E29: =ROUND(SUM(E23:E28),2) -> 1966.52
A30: MÓDULO 2: ENCARGOS E BENEFÍCIOS ANUAIS, MENSAIS E DIÁRIOS
A31: SUBMÓDULO 2.1 - 13º Salário, Férias e Adicional de Férias | D31: % | E31: R$
A32: A | B32: 13º Salário | D32: 0.0833 | E32: =ROUND($E$29*D32,2) -> 163.81
A33: B | B33: Adicional de Férias e Férias | D33: 0.1111 | E33: =ROUND($E$29*D33,2) -> 218.48
A34: Total do Submódulo 2.1 | D34: =SUM(D32:D33) -> 0.1944 | E34: =ROUND($E$29*D34,2) -> 382.29
A36: SUBMÓDULO 2.2 - GPS. FGTS E OUTRAS CONTRIBUIÇÕES | D36: % | E36: R$
A37: A | B37: INSS | D37: 0.2 | E37: =ROUND((E29+E34+E78)*D37,2) -> 476.09
A38: B | B38: Salário Educação | D38: 0.025 | E38: =ROUND((E29+E34+E78)*D38,2) -> 59.51
A39: C | B39: Seguro Acidente de Trabalho - SAT | D39: 0.03 | E39: =ROUND((E29+E34+E78)*D39,2) -> 71.41
A40: D | B40: SESI/SESC | D40: 0.015 | E40: =(E29+E34+E78)*D40 -> 35.70675
A41: E | B41: SENAI/SENAC | D41: 0.01 | E41: =(E29+E34+E78)*D41 -> 23.8045
A42: F | B42: SEBRAE | D42: 0.006 | E42: =(E29+E34+E78)*D42 -> 14.2827
A43: G | B43: INCRA | D43: 0.002 | E43: =(E29+E34+E78)*D43 -> 4.7609
A44: H | B44: FGTS | D44: 0.08 | E44: =ROUND((E29+E34+E78)*D44,2) -> 190.44
A45: TOTAL | D45: =SUM(D37:D44) -> 0.368 | E45: =ROUNDDOWN((SUM(E37:E44)),2) -> 876
A46: SUBMÓDULO 2.3 - BENEFÍCIOS MENSAIS E DIÁRIOS
...

Sheet DUQUE DE CAXIAS
A2: PLANILHA DE CUSTOS E FORMAÇÃO DE PREÇOS
A7: A | B7: Data de apresentação da proposta (dia/mês/ano)
A8: B | B8: Município/UF | D8: DUQUE DE CAXIAS/RJ
A9: C | B9: Ano Acordo, Convenção ou Sentença Normativa em Dissídio Coletivo | D9: 2026/2027
A10: D | B10: Nº de meses de execução contratual | D10: 24
A11: IDENTIFICAÇÃO DOS SERVIÇOS
B12: Unidade de Medida | D12: Posto
B13: Quantidade total a contratar (em função da unidade de medida) | D13: 1
A14: RECEPCIONISTA - DUQUE DE CAXIAS
A15: Dados complementares para composição dos custos referente à mão-de-obra
A16: 1 | B16: Tipo de serviço (mesmo serviço com características distintas) | D16: RECEPCIONISTA
A17: 2 | B17: Salário Normativo da Categoria Profissional | D17: 2040.65
A18: 3 | B18: Categoria Profissional (vinculada à execução contratual) | D18: RECEPCIONISTA
A19: 4 | B19: Data base da categoria (dia/mês/ano) | D19: 46113
A20: 5 | B20: Regime tributário | D20: LUCRO REAL
A21: MODULO 1: COMPOSIÇÃO DA REMUNERAÇÃO
A22: 1 | B22: Composição da Remuneração | D22: % | E22: Valor (R$)
A23: A | B23: Salário | E23: 2040.65
A24: B | B24: Adicional de periculosidade | D24: 0 | E24: 0
A25: C | B25: Adicional de insalubridade | D25: 0 | E25: 0
A26: D | B26: Adicional noturno | D26: 0 | E26: 0
A27: E | B27: Adicional de hora noturna reduzida | D27: 0 | E27: 0
A28: F | B28: Outros | D28: 0 | E28: =D28*E23 -> 0
A29: TOTAL | E29: =ROUND(SUM(E23:E28),2) -> 2040.65 | F29: data base da categoria -01/04/2026
A30: MÓDULO 2: ENCARGOS E BENEFÍCIOS ANUAIS, MENSAIS E DIÁRIOS
A31: SUBMÓDULO 2.1 - 13º Salário, Férias e Adicional de Férias | D31: % | E31: R$
A32: A | B32: 13º Salário | D32: 0.0833 | E32: =ROUND($E$29*D32,2) -> 169.99
A33: B | B33: Adicional de Férias e Férias | D33: 0.1111 | E33: =ROUND($E$29*D33,2) -> 226.72
A34: Total do Submódulo 2.1 | D34: =SUM(D32:D33) -> 0.1944 | E34: =ROUNDUP($E$29*D34,2) -> 396.71
A36: SUBMÓDULO 2.2 - GPS. FGTS E OUTRAS CONTRIBUIÇÕES | D36: % | E36: R$
A37: A | B37: INSS | D37: 0.2 | E37: =ROUND((E29+E34+E78)*D37,2) -> 494.04
A38: B | B38: Salário Educação | D38: 0.025 | E38: =ROUND((E29+E34+E78)*D38,2) -> 61.76
A39: C | B39: Seguro Acidente de Trabalho - GILRAT | D39: 0.03 | E39: =ROUND((E29+E34+E78)*D39,2) -> 74.11
A40: D | B40: SESI/SESC | D40: 0.015 | E40: =(E29+E34+E78)*D40 -> 37.053
A41: E | B41: SENAI/SENAC | D41: 0.01 | E41: =(E29+E34+E78)*D41 -> 24.702
A42: F | B42: SEBRAE | D42: 0.006 | E42: =(E29+E34+E78)*D42 -> 14.8212
A43: G | B43: INCRA | D43: 0.002 | E43: =(E29+E34+E78)*D43 -> 4.9404
A44: H | B44: FGTS | D44: 0.08 | E44: =ROUND((E29+E34+E78)*D44,2) -> 197.62
A45: TOTAL | D45: =SUM(D37:D44) -> 0.368 | E45: =SUM(E37:E44) -> 909.0466
A46: SUBMÓDULO 2.3 - BENEFÍCIOS MENSAIS E DIÁRIOS
...

Sheet NOVA IGUAÇU
A2: PLANILHA DE CUSTOS E FORMAÇÃO DE PREÇOS
A7: A | B7: Data de apresentação da proposta (dia/mês/ano)
A8: B | B8: Município/UF | D8: NOVA IGUAÇU/RJ
A9: C | B9: Ano Acordo, Convenção ou Sentença Normativa em Dissídio Coletivo | D9: 2025/2026
A10: D | B10: Nº de meses de execução contratual | D10: 24
A11: IDENTIFICAÇÃO DOS SERVIÇOS
B12: Unidade de Medida | D12: Posto
B13: Quantidade total a contratar (em função da unidade de medida) | D13: 1
A14: RECEPCIONISTA - NOVA IGUAÇU
A15: Dados complementares para composição dos custos referente à mão-de-obra
A16: 1 | B16: Tipo de serviço (mesmo serviço com características distintas) | D16: RECEPCIONISTA
A17: 2 | B17: Salário Normativo da Categoria Profissional | D17: 1837.87
A18: 3 | B18: Categoria Profissional (vinculada à execução contratual) | D18: RECEPCIONISTA
A19: 4 | B19: Data base da categoria (dia/mês/ano) | D19: 45717
A20: 5 | B20: Regime tributário | D20: LUCRO REAL
A21: MODULO 1: COMPOSIÇÃO DA REMUNERAÇÃO
A22: 1 | B22: Composição da Remuneração | D22: % | E22: Valor (R$)
A23: A | B23: Salário | E23: 1837.87
A24: B | B24: Adicional de periculosidade | D24: 0 | E24: 0
A25: C | B25: Adicional de insalubridade | D25: 0 | E25: 0
A26: D | B26: Adicional noturno | D26: 0 | E26: 0
A27: E | B27: Adicional de hora noturna reduzida | D27: 0 | E27: 0
A28: F | B28: Outros | D28: 0 | E28: =D28*E23 -> 0
A29: TOTAL | E29: =ROUND(SUM(E23:E28),2) -> 1837.87
A30: MÓDULO 2: ENCARGOS E BENEFÍCIOS ANUAIS, MENSAIS E DIÁRIOS
A31: SUBMÓDULO 2.1 - 13º Salário, Férias e Adicional de Férias | D31: % | E31: R$
A32: A | B32: 13º Salário | D32: 0.0833 | E32: =ROUND($E$29*D32,2) -> 153.09
A33: B | B33: Adicional de Férias e Férias | D33: 0.1111 | E33: =ROUND($E$29*D33,2) -> 204.19
A34: Total do Submódulo 2.1 | D34: =SUM(D32:D33) -> 0.1944 | E34: =ROUND($E$29*D34,2) -> 357.28
A36: SUBMÓDULO 2.2 - GPS. FGTS E OUTRAS CONTRIBUIÇÕES | D36: % | E36: R$
A37: A | B37: INSS | D37: 0.2 | E37: =ROUND((E29+E34+E78)*D37,2) -> 444.94
A38: B | B38: Salário Educação | D38: 0.025 | E38: =ROUND((E29+E34+E78)*D38,2) -> 55.62
A39: C | B39: Seguro Acidente de Trabalho - SAT | D39: 0.03 | E39: =ROUND((E29+E34+E78)*D39,2) -> 66.74
A40: D | B40: SESI/SESC | D40: 0.015 | E40: =(E29+E34+E78)*D40 -> 33.3708
A41: E | B41: SENAI/SENAC | D41: 0.01 | E41: =(E29+E34+E78)*D41 -> 22.2472
A42: F | B42: SEBRAE | D42: 0.006 | E42: =(E29+E34+E78)*D42 -> 13.34832
A43: G | B43: INCRA | D43: 0.002 | E43: =(E29+E34+E78)*D43 -> 4.44944
A44: H | B44: FGTS | D44: 0.08 | E44: =ROUND((E29+E34+E78)*D44,2) -> 177.98
A45: TOTAL | D45: =SUM(D37:D44) -> 0.368 | E45: =ROUNDUP((SUM(E37:E44)),2) -> 818.7
A46: SUBMÓDULO 2.3 - BENEFÍCIOS MENSAIS E DIÁRIOS
...

Sheet PETROPOLIS
A2: PLANILHA DE CUSTOS E FORMAÇÃO DE PREÇOS
A7: A | B7: Data de apresentação da proposta (dia/mês/ano)
A8: B | B8: Município/UF | D8: PETRÓPOLIS/RJ
A9: C | B9: Ano Acordo, Convenção ou Sentença Normativa em Dissídio Coletivo | D9: 2026/2027
A10: D | B10: Nº de meses de execução contratual | D10: 24
A11: IDENTIFICAÇÃO DOS SERVIÇOS
B12: Unidade de Medida | D12: Posto
B13: Quantidade total a contratar (em função da unidade de medida) | D13: 1
A14: RECEPCIONISTA - PETRÓPOLIS
A15: Dados complementares para composição dos custos referente à mão-de-obra
A16: 1 | B16: Tipo de serviço (mesmo serviço com características distintas) | D16: RECEPCIONISTA
A17: 2 | B17: Salário Normativo da Categoria Profissional | D17: 1912.45
A18: 3 | B18: Categoria Profissional (vinculada à execução contratual) | D18: RECEPCIONISTA
A19: 4 | B19: Data base da categoria (dia/mês/ano) | D19: 46143
A20: 5 | B20: Regime tributário | D20: LUCRO REAL
A21: MODULO 1: COMPOSIÇÃO DA REMUNERAÇÃO
A22: 1 | B22: Composição da Remuneração | D22: % | E22: Valor (R$)
A23: A | B23: Salário | E23: 1912.45
A24: B | B24: Adicional de periculosidade | D24: 0 | E24: 0
A25: C | B25: Adicional de insalubridade | D25: 0 | E25: 0
A26: D | B26: Adicional noturno | D26: 0 | E26: 0
A27: E | B27: Adicional de hora noturna reduzida | D27: 0 | E27: 0
A28: F | B28: Outros | D28: 0 | E28: =D28*E23 -> 0
A29: TOTAL | E29: =ROUND(SUM(E23:E28),2) -> 1912.45 | F29: data base da categoria - 01/05/2026
A30: MÓDULO 2: ENCARGOS E BENEFÍCIOS ANUAIS, MENSAIS E DIÁRIOS
A31: SUBMÓDULO 2.1 - 13º Salário, Férias e Adicional de Férias | D31: % | E31: R$
A32: A | B32: 13º Salário | D32: 0.0833 | E32: =ROUND($E$29*D32,2) -> 159.31
A33: B | B33: Adicional de Férias e Férias | D33: 0.1111 | E33: =ROUND($E$29*D33,2) -> 212.47
A34: Total do Submódulo 2.1 | D34: =SUM(D32:D33) -> 0.1944 | E34: =ROUND($E$29*D34,2) -> 371.78
A36: SUBMÓDULO 2.2 - GPS. FGTS E OUTRAS CONTRIBUIÇÕES | D36: % | E36: R$
A37: A | B37: INSS | D37: 0.2 | E37: =ROUND((E29+E34+E78)*D37,2) -> 463
A38: B | B38: Salário Educação | D38: 0.025 | E38: =ROUND((E29+E34+E78)*D38,2) -> 57.88
A39: C | B39: Seguro Acidente de Trabalho -GILRAT | D39: 0.03 | E39: =ROUND((E29+E34+E78)*D39,2) -> 69.45
A40: D | B40: SESI/SESC | D40: 0.015 | E40: =(E29+E34+E78)*D40 -> 34.725
A41: E | B41: SENAI/SENAC | D41: 0.01 | E41: =(E29+E34+E78)*D41 -> 23.15
A42: F | B42: SEBRAE | D42: 0.006 | E42: =(E29+E34+E78)*D42 -> 13.89
A43: G | B43: INCRA | D43: 0.002 | E43: =(E29+E34+E78)*D43 -> 4.63
A44: H | B44: FGTS | D44: 0.08 | E44: =ROUND((E29+E34+E78)*D44,2) -> 185.2
A45: TOTAL | D45: =SUM(D37:D44) -> 0.368 | E45: =SUM(E37:E44) -> 851.925
A46: SUBMÓDULO 2.3 - BENEFÍCIOS MENSAIS E DIÁRIOS
...

Sheet CABO FRIO
A2: PLANILHA DE CUSTOS E FORMAÇÃO DE PREÇOS
A7: A | B7: Data de apresentação da proposta (dia/mês/ano)
A8: B | B8: Município/UF | D8: CABO FRIO/RJ
A9: C | B9: Ano Acordo, Convenção ou Sentença Normativa em Dissídio Coletivo | D9: 2026/2027
A10: D | B10: Nº de meses de execução contratual | D10: 24
A11: IDENTIFICAÇÃO DOS SERVIÇOS
B12: Unidade de Medida | D12: Posto
B13: Quantidade total a contratar (em função da unidade de medida) | D13: 1
A14: RECEPCIONISTA - CABO FRIO
A15: Dados complementares para composição dos custos referente à mão-de-obra
A16: 1 | B16: Tipo de serviço (mesmo serviço com características distintas) | D16: RECEPCIONISTA
A17: 2 | B17: Salário Normativo da Categoria Profissional | D17: 1966.52
A18: 3 | B18: Categoria Profissional (vinculada à execução contratual) | D18: RECEPCIONISTA
A19: 4 | B19: Data base da categoria (dia/mês/ano) | D19: 46082
A20: 5 | B20: Regime tributário | D20: LUCRO REAL
A21: MODULO 1: COMPOSIÇÃO DA REMUNERAÇÃO
A22: 1 | B22: Composição da Remuneração | D22: % | E22: Valor (R$)
A23: A | B23: Salário | E23: 1966.52
A24: B | B24: Adicional de periculosidade | D24: 0 | E24: 0
A25: C | B25: Adicional de insalubridade | D25: 0 | E25: 0
A26: D | B26: Adicional noturno | D26: 0 | E26: 0
A27: E | B27: Adicional de hora noturna reduzida | D27: 0 | E27: 0
A28: F | B28: Outros | D28: 0 | E28: =D28*E23 -> 0 | F28: data base da categoria - 01/03/2026
A29: TOTAL | E29: =ROUND(SUM(E23:E28),2) -> 1966.52
A30: MÓDULO 2: ENCARGOS E BENEFÍCIOS ANUAIS, MENSAIS E DIÁRIOS
A31: SUBMÓDULO 2.1 - 13º Salário, Férias e Adicional de Férias | D31: % | E31: R$
A32: A | B32: 13º Salário | D32: 0.0833 | E32: =ROUND($E$29*D32,2) -> 163.81
A33: B | B33: Adicional de Férias e Férias | D33: 0.1111 | E33: =ROUND($E$29*D33,2) -> 218.48
A34: Total do Submódulo 2.1 | D34: =SUM(D32:D33) -> 0.1944 | E34: =ROUND($E$29*D34,2) -> 382.29
A36: SUBMÓDULO 2.2 - GPS. FGTS E OUTRAS CONTRIBUIÇÕES | D36: % | E36: R$
A37: A | B37: INSS | D37: 0.2 | E37: =ROUND((E29+E34+E78)*D37,2) -> 476.09
A38: B | B38: Salário Educação | D38: 0.025 | E38: =ROUND((E29+E34+E78)*D38,2) -> 59.51
A39: C | B39: Seguro Acidente de Trabalho - GILRAT | D39: 0.03 | E39: =ROUND((E29+E34+E78)*D39,2) -> 71.41
A40: D | B40: SESI/SESC | D40: 0.015 | E40: =(E29+E34+E78)*D40 -> 35.70675
A41: E | B41: SENAI/SENAC | D41: 0.01 | E41: =(E29+E34+E78)*D41 -> 23.8045
A42: F | B42: SEBRAE | D42: 0.006 | E42: =(E29+E34+E78)*D42 -> 14.2827
A43: G | B43: INCRA | D43: 0.002 | E43: =(E29+E34+E78)*D43 -> 4.7609
A44: H | B44: FGTS | D44: 0.08 | E44: =ROUND((E29+E34+E78)*D44,2) -> 190.44
A45: TOTAL | D45: =SUM(D37:D44) -> 0.368 | E45: =ROUNDDOWN((SUM(E37:E44)),2) -> 876
A46: SUBMÓDULO 2.3 - BENEFÍCIOS MENSAIS E DIÁRIOS
...

Sheet CAMPOS DOS GOYTACASES
A2: PLANILHA DE CUSTOS E FORMAÇÃO DE PREÇOS
A7: A | B7: Data de apresentação da proposta (dia/mês/ano)
A8: B | B8: Município/UF | D8: CAMPOS DOS GOYTACASES
A9: C | B9: Ano Acordo, Convenção ou Sentença Normativa em Dissídio Coletivo | D9: 2026/2027
A10: D | B10: Nº de meses de execução contratual | D10: 24
A11: IDENTIFICAÇÃO DOS SERVIÇOS
B12: Unidade de Medida | D12: Posto
B13: Quantidade total a contratar (em função da unidade de medida) | D13: 1
A14: RECEPCIONISTA - CABO FRIO
A15: Dados complementares para composição dos custos referente à mão-de-obra
A16: 1 | B16: Tipo de serviço (mesmo serviço com características distintas) | D16: RECEPCIONISTA
A17: 2 | B17: Salário Normativo da Categoria Profissional | D17: 1966.52
A18: 3 | B18: Categoria Profissional (vinculada à execução contratual) | D18: RECEPCIONISTA
A19: 4 | B19: Data base da categoria (dia/mês/ano) | D19: 46082
A20: 5 | B20: Regime tributário | D20: LUCRO REAL
A21: MODULO 1: COMPOSIÇÃO DA REMUNERAÇÃO
A22: 1 | B22: Composição da Remuneração | D22: % | E22: Valor (R$)
A23: A | B23: Salário | E23: 1966.52
A24: B | B24: Adicional de periculosidade | D24: 0 | E24: 0
A25: C | B25: Adicional de insalubridade | D25: 0 | E25: 0
A26: D | B26: Adicional noturno | D26: 0 | E26: 0
A27: E | B27: Adicional de hora noturna reduzida | D27: 0 | E27: 0
A28: F | B28: Outros | D28: 0 | E28: =D28*E23 -> 0
A29: TOTAL | E29: =ROUND(SUM(E23:E28),2) -> 1966.52
A30: MÓDULO 2: ENCARGOS E BENEFÍCIOS ANUAIS, MENSAIS E DIÁRIOS
A31: SUBMÓDULO 2.1 - 13º Salário, Férias e Adicional de Férias | D31: % | E31: R$
A32: A | B32: 13º Salário | D32: 0.0833 | E32: =ROUND($E$29*D32,2) -> 163.81
A33: B | B33: Adicional de Férias e Férias | D33: 0.1111 | E33: =ROUND($E$29*D33,2) -> 218.48
A34: Total do Submódulo 2.1 | D34: =SUM(D32:D33) -> 0.1944 | E34: =ROUND($E$29*D34,2) -> 382.29
A36: SUBMÓDULO 2.2 - GPS. FGTS E OUTRAS CONTRIBUIÇÕES | D36: % | E36: R$
A37: A | B37: INSS | D37: 0.2 | E37: =ROUND((E29+E34+E78)*D37,2) -> 476.09
A38: B | B38: Salário Educação | D38: 0.025 | E38: =ROUND((E29+E34+E78)*D38,2) -> 59.51
A39: C | B39: Seguro Acidente de Trabalho -GILRAT | D39: 0.03 | E39: =ROUND((E29+E34+E78)*D39,2) -> 71.41
A40: D | B40: SESI/SESC | D40: 0.015 | E40: =(E29+E34+E78)*D40 -> 35.70675
A41: E | B41: SENAI/SENAC | D41: 0.01 | E41: =(E29+E34+E78)*D41 -> 23.8045
A42: F | B42: SEBRAE | D42: 0.006 | E42: =(E29+E34+E78)*D42 -> 14.2827
A43: G | B43: INCRA | D43: 0.002 | E43: =(E29+E34+E78)*D43 -> 4.7609
A44: H | B44: FGTS | D44: 0.08 | E44: =ROUND((E29+E34+E78)*D44,2) -> 190.44
A45: TOTAL | D45: =SUM(D37:D44) -> 0.368 | E45: =ROUNDDOWN((SUM(E37:E44)),2) -> 876
A46: SUBMÓDULO 2.3 - BENEFÍCIOS MENSAIS E DIÁRIOS
...
